BEGIN:VCALENDAR
VERSION:2.0
PRODID:-//Indian Land Republicans - ECPv6.15.20//NONSGML v1.0//EN
CALSCALE:GREGORIAN
METHOD:PUBLISH
X-WR-CALNAME:Indian Land Republicans
X-ORIGINAL-URL:https://indianlandrepublicans.com
X-WR-CALDESC:Events for Indian Land Republicans
REFRESH-INTERVAL;VALUE=DURATION:PT1H
X-Robots-Tag:noindex
X-PUBLISHED-TTL:PT1H
BEGIN:VTIMEZONE
TZID:America/New_York
BEGIN:DAYLIGHT
TZOFFSETFROM:-0500
TZOFFSETTO:-0400
TZNAME:EDT
DTSTART:20240310T070000
END:DAYLIGHT
BEGIN:STANDARD
TZOFFSETFROM:-0400
TZOFFSETTO:-0500
TZNAME:EST
DTSTART:20241103T060000
END:STANDARD
BEGIN:DAYLIGHT
TZOFFSETFROM:-0500
TZOFFSETTO:-0400
TZNAME:EDT
DTSTART:20250309T070000
END:DAYLIGHT
BEGIN:STANDARD
TZOFFSETFROM:-0400
TZOFFSETTO:-0500
TZNAME:EST
DTSTART:20251102T060000
END:STANDARD
BEGIN:DAYLIGHT
TZOFFSETFROM:-0500
TZOFFSETTO:-0400
TZNAME:EDT
DTSTART:20260308T070000
END:DAYLIGHT
BEGIN:STANDARD
TZOFFSETFROM:-0400
TZOFFSETTO:-0500
TZNAME:EST
DTSTART:20261101T060000
END:STANDARD
END:VTIMEZONE
BEGIN:VEVENT
DTSTART;TZID=America/New_York:20251208T180000
DTEND;TZID=America/New_York:20251208T210000
DTSTAMP:20260422T064227
CREATED:20250311T142744Z
LAST-MODIFIED:20250311T142744Z
UID:1020-1765216800-1765227600@indianlandrepublicans.com
SUMMARY:Lancaster County Council Meeting
DESCRIPTION:
URL:https://indianlandrepublicans.com/event/lancaster-county-council-meeting-12082025/
LOCATION:Lancaster County Council Meetings\, 101 N Main St\, Lancaster\, SC\, 29720\, United States
CATEGORIES:Lancaster County Council Meetings
ORGANIZER;CN="ILR ADMIN":MAILTO:indianlandrepublicans.main@gmail.com
END:VEVENT
BEGIN:VEVENT
DTSTART;TZID=America/New_York:20251124T180000
DTEND;TZID=America/New_York:20251124T210000
DTSTAMP:20260422T064227
CREATED:20250311T142707Z
LAST-MODIFIED:20250311T142707Z
UID:1018-1764007200-1764018000@indianlandrepublicans.com
SUMMARY:Lancaster County Council Meeting
DESCRIPTION:
URL:https://indianlandrepublicans.com/event/lancaster-county-council-meeting-11242025/
LOCATION:Lancaster County Council Meetings\, 101 N Main St\, Lancaster\, SC\, 29720\, United States
CATEGORIES:Lancaster County Council Meetings
ORGANIZER;CN="ILR ADMIN":MAILTO:indianlandrepublicans.main@gmail.com
END:VEVENT
BEGIN:VEVENT
DTSTART;TZID=America/New_York:20251120T183000
DTEND;TZID=America/New_York:20251120T200000
DTSTAMP:20260422T064227
CREATED:20250311T140606Z
LAST-MODIFIED:20250311T140606Z
UID:975-1763663400-1763668800@indianlandrepublicans.com
SUMMARY:Monthly Meeting - Del Web Library
DESCRIPTION:
URL:https://indianlandrepublicans.com/event/monthly-meeting-11202025/
LOCATION:Monthly Meetings – Del Webb Library\, 7641 Charlotte Highway\, Indian Land\, South Carolina\, 29707\, United States
CATEGORIES:Monthly Meetings
ORGANIZER;CN="ILR ADMIN":MAILTO:indianlandrepublicans.main@gmail.com
END:VEVENT
BEGIN:VEVENT
DTSTART;TZID=America/New_York:20251110T180000
DTEND;TZID=America/New_York:20251110T210000
DTSTAMP:20260422T064227
CREATED:20250311T142635Z
LAST-MODIFIED:20250311T142635Z
UID:1016-1762797600-1762808400@indianlandrepublicans.com
SUMMARY:Lancaster County Council Meeting
DESCRIPTION:
URL:https://indianlandrepublicans.com/event/lancaster-county-council-meeting-11102025/
LOCATION:Lancaster County Council Meetings\, 101 N Main St\, Lancaster\, SC\, 29720\, United States
CATEGORIES:Lancaster County Council Meetings
ORGANIZER;CN="ILR ADMIN":MAILTO:indianlandrepublicans.main@gmail.com
END:VEVENT
BEGIN:VEVENT
DTSTART;TZID=America/New_York:20251027T180000
DTEND;TZID=America/New_York:20251027T210000
DTSTAMP:20260422T064227
CREATED:20250311T142543Z
LAST-MODIFIED:20250311T142543Z
UID:1014-1761588000-1761598800@indianlandrepublicans.com
SUMMARY:Lancaster County Council Meeting
DESCRIPTION:
URL:https://indianlandrepublicans.com/event/lancaster-county-council-meeting-10272025/
LOCATION:Lancaster County Council Meetings\, 101 N Main St\, Lancaster\, SC\, 29720\, United States
CATEGORIES:Lancaster County Council Meetings
ORGANIZER;CN="ILR ADMIN":MAILTO:indianlandrepublicans.main@gmail.com
END:VEVENT
BEGIN:VEVENT
DTSTART;TZID=America/New_York:20251016T183000
DTEND;TZID=America/New_York:20251016T200000
DTSTAMP:20260422T064227
CREATED:20250311T140524Z
LAST-MODIFIED:20250311T140524Z
UID:973-1760639400-1760644800@indianlandrepublicans.com
SUMMARY:Monthly Meeting - Del Web Library
DESCRIPTION:
URL:https://indianlandrepublicans.com/event/monthly-meeting-10162025/
LOCATION:Monthly Meetings – Del Webb Library\, 7641 Charlotte Highway\, Indian Land\, South Carolina\, 29707\, United States
CATEGORIES:Monthly Meetings
ORGANIZER;CN="ILR ADMIN":MAILTO:indianlandrepublicans.main@gmail.com
END:VEVENT
BEGIN:VEVENT
DTSTART;TZID=America/New_York:20251013T180000
DTEND;TZID=America/New_York:20251013T210000
DTSTAMP:20260422T064227
CREATED:20250311T142502Z
LAST-MODIFIED:20250311T142502Z
UID:1012-1760378400-1760389200@indianlandrepublicans.com
SUMMARY:Lancaster County Council Meeting
DESCRIPTION:
URL:https://indianlandrepublicans.com/event/lancaster-county-council-meeting-10132025/
LOCATION:Lancaster County Council Meetings\, 101 N Main St\, Lancaster\, SC\, 29720\, United States
CATEGORIES:Lancaster County Council Meetings
ORGANIZER;CN="ILR ADMIN":MAILTO:indianlandrepublicans.main@gmail.com
END:VEVENT
BEGIN:VEVENT
DTSTART;TZID=America/New_York:20250922T180000
DTEND;TZID=America/New_York:20250922T210000
DTSTAMP:20260422T064227
CREATED:20250311T142418Z
LAST-MODIFIED:20250311T142418Z
UID:1010-1758564000-1758574800@indianlandrepublicans.com
SUMMARY:Lancaster County Council Meeting
DESCRIPTION:
URL:https://indianlandrepublicans.com/event/lancaster-county-council-meeting-09222025/
LOCATION:Lancaster County Council Meetings\, 101 N Main St\, Lancaster\, SC\, 29720\, United States
CATEGORIES:Lancaster County Council Meetings
ORGANIZER;CN="ILR ADMIN":MAILTO:indianlandrepublicans.main@gmail.com
END:VEVENT
BEGIN:VEVENT
DTSTART;TZID=America/New_York:20250918T183000
DTEND;TZID=America/New_York:20250918T200000
DTSTAMP:20260422T064227
CREATED:20250311T140443Z
LAST-MODIFIED:20250311T140451Z
UID:971-1758220200-1758225600@indianlandrepublicans.com
SUMMARY:Monthly Meeting - Del Web Library
DESCRIPTION:
URL:https://indianlandrepublicans.com/event/monthly-meeting-09182025/
LOCATION:Monthly Meetings – Del Webb Library\, 7641 Charlotte Highway\, Indian Land\, South Carolina\, 29707\, United States
CATEGORIES:Monthly Meetings
ORGANIZER;CN="ILR ADMIN":MAILTO:indianlandrepublicans.main@gmail.com
END:VEVENT
BEGIN:VEVENT
DTSTART;TZID=America/New_York:20250908T180000
DTEND;TZID=America/New_York:20250908T210000
DTSTAMP:20260422T064227
CREATED:20250311T142330Z
LAST-MODIFIED:20250311T142330Z
UID:1008-1757354400-1757365200@indianlandrepublicans.com
SUMMARY:Lancaster County Council Meeting
DESCRIPTION:
URL:https://indianlandrepublicans.com/event/lancaster-county-council-meeting-09082025/
LOCATION:Lancaster County Council Meetings\, 101 N Main St\, Lancaster\, SC\, 29720\, United States
CATEGORIES:Lancaster County Council Meetings
ORGANIZER;CN="ILR ADMIN":MAILTO:indianlandrepublicans.main@gmail.com
END:VEVENT
BEGIN:VEVENT
DTSTART;TZID=America/New_York:20250825T180000
DTEND;TZID=America/New_York:20250825T210000
DTSTAMP:20260422T064227
CREATED:20250311T142246Z
LAST-MODIFIED:20250311T142246Z
UID:1006-1756144800-1756155600@indianlandrepublicans.com
SUMMARY:Lancaster County Council Meeting
DESCRIPTION:
URL:https://indianlandrepublicans.com/event/lancaster-county-council-meeting-08252025/
LOCATION:Lancaster County Council Meetings\, 101 N Main St\, Lancaster\, SC\, 29720\, United States
CATEGORIES:Lancaster County Council Meetings
ORGANIZER;CN="ILR ADMIN":MAILTO:indianlandrepublicans.main@gmail.com
END:VEVENT
BEGIN:VEVENT
DTSTART;TZID=America/New_York:20250821T183000
DTEND;TZID=America/New_York:20250821T200000
DTSTAMP:20260422T064227
CREATED:20250311T140402Z
LAST-MODIFIED:20250311T140402Z
UID:969-1755801000-1755806400@indianlandrepublicans.com
SUMMARY:Monthly Meeting - Del Web Library
DESCRIPTION:
URL:https://indianlandrepublicans.com/event/monthly-meeting-08212025/
LOCATION:Monthly Meetings – Del Webb Library\, 7641 Charlotte Highway\, Indian Land\, South Carolina\, 29707\, United States
CATEGORIES:Monthly Meetings
ORGANIZER;CN="ILR ADMIN":MAILTO:indianlandrepublicans.main@gmail.com
END:VEVENT
BEGIN:VEVENT
DTSTART;TZID=America/New_York:20250811T180000
DTEND;TZID=America/New_York:20250811T210000
DTSTAMP:20260422T064227
CREATED:20250311T142157Z
LAST-MODIFIED:20250311T142157Z
UID:1004-1754935200-1754946000@indianlandrepublicans.com
SUMMARY:Lancaster County Council Meeting
DESCRIPTION:
URL:https://indianlandrepublicans.com/event/lancaster-county-council-meeting-08112025/
LOCATION:Lancaster County Council Meetings\, 101 N Main St\, Lancaster\, SC\, 29720\, United States
CATEGORIES:Lancaster County Council Meetings
ORGANIZER;CN="ILR ADMIN":MAILTO:indianlandrepublicans.main@gmail.com
END:VEVENT
BEGIN:VEVENT
DTSTART;TZID=America/New_York:20250721T180000
DTEND;TZID=America/New_York:20250721T210000
DTSTAMP:20260422T064227
CREATED:20250311T142113Z
LAST-MODIFIED:20250311T142113Z
UID:1002-1753120800-1753131600@indianlandrepublicans.com
SUMMARY:Lancaster County Council Meeting
DESCRIPTION:
URL:https://indianlandrepublicans.com/event/lancaster-county-council-meeting-07212025/
LOCATION:Lancaster County Council Meetings\, 101 N Main St\, Lancaster\, SC\, 29720\, United States
CATEGORIES:Lancaster County Council Meetings
ORGANIZER;CN="ILR ADMIN":MAILTO:indianlandrepublicans.main@gmail.com
END:VEVENT
BEGIN:VEVENT
DTSTART;TZID=America/New_York:20250717T183000
DTEND;TZID=America/New_York:20250717T200000
DTSTAMP:20260422T064227
CREATED:20250311T140325Z
LAST-MODIFIED:20250311T140325Z
UID:967-1752777000-1752782400@indianlandrepublicans.com
SUMMARY:Monthly Meeting - Del Web Library
DESCRIPTION:
URL:https://indianlandrepublicans.com/event/monthly-meeting-07172025/
LOCATION:Monthly Meetings – Del Webb Library\, 7641 Charlotte Highway\, Indian Land\, South Carolina\, 29707\, United States
CATEGORIES:Monthly Meetings
ORGANIZER;CN="ILR ADMIN":MAILTO:indianlandrepublicans.main@gmail.com
END:VEVENT
BEGIN:VEVENT
DTSTART;TZID=America/New_York:20250623T180000
DTEND;TZID=America/New_York:20250623T210000
DTSTAMP:20260422T064227
CREATED:20250311T142033Z
LAST-MODIFIED:20250311T142033Z
UID:1000-1750701600-1750712400@indianlandrepublicans.com
SUMMARY:Lancaster County Council Meeting
DESCRIPTION:
URL:https://indianlandrepublicans.com/event/lancaster-county-council-meeting-06232025/
LOCATION:Lancaster County Council Meetings\, 101 N Main St\, Lancaster\, SC\, 29720\, United States
CATEGORIES:Lancaster County Council Meetings
ORGANIZER;CN="ILR ADMIN":MAILTO:indianlandrepublicans.main@gmail.com
END:VEVENT
BEGIN:VEVENT
DTSTART;TZID=America/New_York:20250619T183000
DTEND;TZID=America/New_York:20250619T200000
DTSTAMP:20260422T064227
CREATED:20250311T140237Z
LAST-MODIFIED:20250311T140237Z
UID:965-1750357800-1750363200@indianlandrepublicans.com
SUMMARY:Monthly Meeting - Del Web Library
DESCRIPTION:
URL:https://indianlandrepublicans.com/event/monthly-meeting-06192025/
LOCATION:Monthly Meetings – Del Webb Library\, 7641 Charlotte Highway\, Indian Land\, South Carolina\, 29707\, United States
CATEGORIES:Monthly Meetings
ORGANIZER;CN="ILR ADMIN":MAILTO:indianlandrepublicans.main@gmail.com
END:VEVENT
BEGIN:VEVENT
DTSTART;TZID=America/New_York:20250609T180000
DTEND;TZID=America/New_York:20250609T210000
DTSTAMP:20260422T064227
CREATED:20250311T141944Z
LAST-MODIFIED:20250311T141944Z
UID:998-1749492000-1749502800@indianlandrepublicans.com
SUMMARY:Lancaster County Council Meeting
DESCRIPTION:
URL:https://indianlandrepublicans.com/event/lancaster-county-council-meeting-06092025/
LOCATION:Lancaster County Council Meetings\, 101 N Main St\, Lancaster\, SC\, 29720\, United States
CATEGORIES:Lancaster County Council Meetings
ORGANIZER;CN="ILR ADMIN":MAILTO:indianlandrepublicans.main@gmail.com
END:VEVENT
BEGIN:VEVENT
DTSTART;TZID=America/New_York:20250526T180000
DTEND;TZID=America/New_York:20250526T210000
DTSTAMP:20260422T064227
CREATED:20250311T141854Z
LAST-MODIFIED:20250311T141854Z
UID:996-1748282400-1748293200@indianlandrepublicans.com
SUMMARY:Lancaster County Council Meeting
DESCRIPTION:
URL:https://indianlandrepublicans.com/event/lancaster-county-council-meeting-05262025/
LOCATION:Lancaster County Council Meetings\, 101 N Main St\, Lancaster\, SC\, 29720\, United States
CATEGORIES:Lancaster County Council Meetings
ORGANIZER;CN="ILR ADMIN":MAILTO:indianlandrepublicans.main@gmail.com
END:VEVENT
BEGIN:VEVENT
DTSTART;TZID=America/New_York:20250515T183000
DTEND;TZID=America/New_York:20250515T200000
DTSTAMP:20260422T064227
CREATED:20250311T140151Z
LAST-MODIFIED:20250311T140151Z
UID:963-1747333800-1747339200@indianlandrepublicans.com
SUMMARY:Monthly Meeting - Del Web Library
DESCRIPTION:
URL:https://indianlandrepublicans.com/event/monthly-meeting-05152025/
LOCATION:Monthly Meetings – Del Webb Library\, 7641 Charlotte Highway\, Indian Land\, South Carolina\, 29707\, United States
CATEGORIES:Monthly Meetings
ORGANIZER;CN="ILR ADMIN":MAILTO:indianlandrepublicans.main@gmail.com
END:VEVENT
BEGIN:VEVENT
DTSTART;TZID=America/New_York:20250512T180000
DTEND;TZID=America/New_York:20250512T210000
DTSTAMP:20260422T064227
CREATED:20250311T141802Z
LAST-MODIFIED:20250311T141802Z
UID:993-1747072800-1747083600@indianlandrepublicans.com
SUMMARY:Lancaster County Council Meeting
DESCRIPTION:
URL:https://indianlandrepublicans.com/event/lancaster-county-council-meeting-05122025/
LOCATION:Lancaster County Council Meetings\, 101 N Main St\, Lancaster\, SC\, 29720\, United States
CATEGORIES:Lancaster County Council Meetings
ORGANIZER;CN="ILR ADMIN":MAILTO:indianlandrepublicans.main@gmail.com
END:VEVENT
BEGIN:VEVENT
DTSTART;TZID=America/New_York:20250428T180000
DTEND;TZID=America/New_York:20250428T210000
DTSTAMP:20260422T064227
CREATED:20250311T141622Z
LAST-MODIFIED:20250311T141622Z
UID:989-1745863200-1745874000@indianlandrepublicans.com
SUMMARY:Lancaster County Council Meeting
DESCRIPTION:
URL:https://indianlandrepublicans.com/event/lancaster-county-council-meeting-04282025/
LOCATION:Lancaster County Council Meetings\, 101 N Main St\, Lancaster\, SC\, 29720\, United States
CATEGORIES:Lancaster County Council Meetings
ORGANIZER;CN="ILR ADMIN":MAILTO:indianlandrepublicans.main@gmail.com
END:VEVENT
BEGIN:VEVENT
DTSTART;TZID=America/New_York:20250417T183000
DTEND;TZID=America/New_York:20250417T200000
DTSTAMP:20260422T064227
CREATED:20250311T140110Z
LAST-MODIFIED:20250311T140200Z
UID:961-1744914600-1744920000@indianlandrepublicans.com
SUMMARY:Monthly Meeting - Del Web Library
DESCRIPTION:
URL:https://indianlandrepublicans.com/event/monthly-meeting-04172025/
LOCATION:Monthly Meetings – Del Webb Library\, 7641 Charlotte Highway\, Indian Land\, South Carolina\, 29707\, United States
CATEGORIES:Monthly Meetings
ORGANIZER;CN="ILR ADMIN":MAILTO:indianlandrepublicans.main@gmail.com
END:VEVENT
BEGIN:VEVENT
DTSTART;TZID=America/New_York:20250414T180000
DTEND;TZID=America/New_York:20250414T210000
DTSTAMP:20260422T064227
CREATED:20250311T141534Z
LAST-MODIFIED:20250311T141534Z
UID:985-1744653600-1744664400@indianlandrepublicans.com
SUMMARY:Lancaster County Council Meeting
DESCRIPTION:
URL:https://indianlandrepublicans.com/event/lancaster-county-council-meeting-04142025/
LOCATION:Lancaster County Council Meetings\, 101 N Main St\, Lancaster\, SC\, 29720\, United States
CATEGORIES:Lancaster County Council Meetings
ORGANIZER;CN="ILR ADMIN":MAILTO:indianlandrepublicans.main@gmail.com
END:VEVENT
BEGIN:VEVENT
DTSTART;TZID=America/New_York:20250410T190000
DTEND;TZID=America/New_York:20250410T213000
DTSTAMP:20260422T064227
CREATED:20250311T171341Z
LAST-MODIFIED:20250311T171341Z
UID:1036-1744311600-1744320600@indianlandrepublicans.com
SUMMARY:Lancaster County GOP ReOrg Meetings - American Legion Hall
DESCRIPTION:Cost for 1st meeting only is $35/ year per family \n$35 is the yearly dues for the Lancaster GOP
URL:https://indianlandrepublicans.com/event/lancaster-county-gop-reorg-meetings-american-legion-hall-04102025/
LOCATION:Lancaster County GOP ReOrg Meetings – American Legion Hall\, 823 South Main St.\, Lancaster\, 29120\, United States
CATEGORIES:Lancaster County GOP ReOrg Meetings
ORGANIZER;CN="ILR ADMIN":MAILTO:indianlandrepublicans.main@gmail.com
END:VEVENT
BEGIN:VEVENT
DTSTART;TZID=America/New_York:20250324T183000
DTEND;TZID=America/New_York:20250324T210000
DTSTAMP:20260422T064227
CREATED:20250311T141311Z
LAST-MODIFIED:20250311T153202Z
UID:982-1742841000-1742850000@indianlandrepublicans.com
SUMMARY:Riley Gaines Event
DESCRIPTION:  \n  \n  \nSIGN UP HERE:\nhttps://rileygainescenter.org/events/sign-up-to-see-riley-gaines-speak-at-winthrop-university/
URL:https://indianlandrepublicans.com/event/riley-gaines-03242025/
LOCATION:Leadership Institute\, 701 Oakland Avenue\, Rock Hill\, SC\, 29733\, United States
CATEGORIES:Special Events
ORGANIZER;CN="ILR ADMIN":MAILTO:indianlandrepublicans.main@gmail.com
END:VEVENT
BEGIN:VEVENT
DTSTART;TZID=America/New_York:20250324T180000
DTEND;TZID=America/New_York:20250324T210000
DTSTAMP:20260422T064227
CREATED:20250311T153321Z
LAST-MODIFIED:20250311T153321Z
UID:1024-1742839200-1742850000@indianlandrepublicans.com
SUMMARY:Lancaster County Council Meeting - Kolter's Cresswing Development
DESCRIPTION:
URL:https://indianlandrepublicans.com/event/lancaster-county-council-meeting-03242025/
LOCATION:Lancaster County Council Meetings\, 101 N Main St\, Lancaster\, SC\, 29720\, United States
CATEGORIES:Lancaster County Council Meetings
ORGANIZER;CN="ILR ADMIN":MAILTO:indianlandrepublicans.main@gmail.com
END:VEVENT
BEGIN:VEVENT
DTSTART;TZID=America/New_York:20250320T183000
DTEND;TZID=America/New_York:20250320T200000
DTSTAMP:20260422T064227
CREATED:20250311T135723Z
LAST-MODIFIED:20250311T135723Z
UID:959-1742495400-1742500800@indianlandrepublicans.com
SUMMARY:Monthly Meeting - Del Web Library
DESCRIPTION:
URL:https://indianlandrepublicans.com/event/monthly-meeting-03202025/
LOCATION:Monthly Meetings – Del Webb Library\, 7641 Charlotte Highway\, Indian Land\, South Carolina\, 29707\, United States
CATEGORIES:Monthly Meetings
ORGANIZER;CN="ILR ADMIN":MAILTO:indianlandrepublicans.main@gmail.com
END:VEVENT
BEGIN:VEVENT
DTSTART;TZID=America/New_York:20250313T190000
DTEND;TZID=America/New_York:20250313T213000
DTSTAMP:20260422T064227
CREATED:20250311T171157Z
LAST-MODIFIED:20250311T171216Z
UID:1033-1741892400-1741901400@indianlandrepublicans.com
SUMMARY:Lancaster County GOP ReOrg Meetings - American Legion Hall
DESCRIPTION:Cost for 1st meeting only is $35/ year per family \n$35 is the yearly dues for the Lancaster GOP
URL:https://indianlandrepublicans.com/event/lancaster-county-gop-reorg-meetings-american-legion-hall-03132025/
LOCATION:Lancaster County GOP ReOrg Meetings – American Legion Hall\, 823 South Main St.\, Lancaster\, 29120\, United States
CATEGORIES:Lancaster County GOP ReOrg Meetings
ORGANIZER;CN="ILR ADMIN":MAILTO:indianlandrepublicans.main@gmail.com
END:VEVENT
BEGIN:VEVENT
DTSTART;TZID=America/New_York:20250310T180000
DTEND;TZID=America/New_York:20250310T210000
DTSTAMP:20260422T064227
CREATED:20250311T141001Z
LAST-MODIFIED:20250311T141001Z
UID:980-1741629600-1741640400@indianlandrepublicans.com
SUMMARY:Lancaster County Council Meeting
DESCRIPTION:
URL:https://indianlandrepublicans.com/event/lancaster-county-council-meeting-03102025/
LOCATION:Lancaster County Council Meetings\, 101 N Main St\, Lancaster\, SC\, 29720\, United States
CATEGORIES:Lancaster County Council Meetings
ORGANIZER;CN="ILR ADMIN":MAILTO:indianlandrepublicans.main@gmail.com
END:VEVENT
END:VCALENDAR